BEGIN:VCALENDAR
VERSION:2.0
PRODID:gruene-ritterhude.de
METHOD:PUBLISH
BEGIN:VTIMEZONE
TZID:Europe/Berlin
X-LIC-LOCATION:Europe/Berlin
BEGIN:DAYLIGHT
TZOFFSETFROM:+0100
TZOFFSETTO:+0200
TZNAME:CEST
DTSTART:19700329T020000
RRULE:FREQ=YEARLY;INTERVAL=1;BYDAY=-1SU;BYMONTH=3
END:DAYLIGHT
BEGIN:STANDARD
TZOFFSETFROM:+0200
TZOFFSETTO:+0100
TZNAME:CET
DTSTART:19701025T030000
RRULE:FREQ=YEARLY;INTERVAL=1;BYDAY=-1SU;BYMONTH=10
END:STANDARD
END:VTIMEZONE
BEGIN:VEVENT
UID:c6066884a81b51df5da043c8803dff82@gruene-ritterhude.de
URL;VALUE=URI:https://gruene-ritterhude.de/termine/ov-sitzung/
LOCATION:Hotel Jägerstuben, Struckbergstraße, Ritterhude
SUMMARY:OV-Sitzung
DESCRIPTION;ALTREP="data:text/html,%0A%3Cp%3EOffenes%20Treffen%20aller%20
 Mitglieder%20des%20Ortsverbandes.%20Besucher%20sind%20herzlich%20will%20k
 ommen.%3C%2Fp%3E%0A%0A%0A%0A%3Cp%3EWir%20wollen%20das%20Wahlprogramm%20di
 skutieren%20und%20verabschieden.%20Die%20Ergebnisse%20der%20Klausur%2C%20
 Zeitplan%20usw%20m%C3%BCssen%20besprochen%20werden.%3C%2Fp%3E%0A%0A%0A%0A
 %3Cp%3EEs%20wird%20vor%20allem%20um%20die%20Wahl%20gehen%20und%20um%20die
 %20Unterst%C3%BCtzung.%3C%2Fp%3E%0A":Offenes Treffen aller Mitglieder des
  Ortsverbandes. Besucher sind herzlich will kommen.\n\nWir wollen das Wah
 lprogramm diskutieren und verabschieden. Die Ergebnisse der Klausur\, Zei
 tplan usw müssen besprochen werden.\n\nEs wird vor allem um die Wahl geh
 en und um die Unterstützung.
CLASS:PUBLIC
DTSTART;TZID=Europe/Berlin:20260504T200000
DTEND;TZID=Europe/Berlin:20260504T220000
DTSTAMP:20260422T113028
END:VEVENT
END:VCALENDAR