BEGIN:VCALENDAR
VERSION:2.0
PRODID:gruene-ritterhude.de
METHOD:PUBLISH
BEGIN:VTIMEZONE
TZID:Europe/Berlin
X-LIC-LOCATION:Europe/Berlin
BEGIN:DAYLIGHT
TZOFFSETFROM:+0100
TZOFFSETTO:+0200
TZNAME:CEST
DTSTART:19700329T020000
RRULE:FREQ=YEARLY;INTERVAL=1;BYDAY=-1SU;BYMONTH=3
END:DAYLIGHT
BEGIN:STANDARD
TZOFFSETFROM:+0200
TZOFFSETTO:+0100
TZNAME:CET
DTSTART:19701025T030000
RRULE:FREQ=YEARLY;INTERVAL=1;BYDAY=-1SU;BYMONTH=10
END:STANDARD
END:VTIMEZONE
BEGIN:VEVENT
UID:a42da76a03fa7de6af2b578a1cca7fe4@gruene-ritterhude.de
URL;VALUE=URI:https://gruene-ritterhude.de/termine/gruener-buergerdialog-
 2/
LOCATION:Hotel Jägerstuben, truckbergstr., Ritterhude
SUMMARY:Grüner Bürgerdialog
DESCRIPTION;ALTREP="data:text/html,%0A%3Cp%3EWie%20immer%20sind%20alle%20
 B%C3%BCrger%2Ainnen%20herzlich%20willkommen.%20Wir%20freuen%20uns%20auf%2
 0den%20Austausch.%3C%2Fp%3E%0A%0A%0A%0A%3Cp%3EEs%20wird%20wie%20immer%20a
 us%20dem%20Rat%20und%20dem%20Kreistag%20berichtet.%3C%2Fp%3E%0A":Wie imme
 r sind alle Bürger*innen herzlich willkommen. Wir freuen uns auf den Aus
 tausch.\n\nEs wird wie immer aus dem Rat und dem Kreistag berichtet.
CLASS:PUBLIC
DTSTART;TZID=Europe/Berlin:20241104T200000
DTEND;TZID=Europe/Berlin:20241104T220000
DTSTAMP:20260422T140714
END:VEVENT
END:VCALENDAR