BEGIN:VCALENDAR
VERSION:2.0
PRODID:gruene-ritterhude.de
METHOD:PUBLISH
BEGIN:VTIMEZONE
TZID:Europe/Berlin
X-LIC-LOCATION:Europe/Berlin
BEGIN:DAYLIGHT
TZOFFSETFROM:+0100
TZOFFSETTO:+0200
TZNAME:CEST
DTSTART:19700329T020000
RRULE:FREQ=YEARLY;INTERVAL=1;BYDAY=-1SU;BYMONTH=3
END:DAYLIGHT
BEGIN:STANDARD
TZOFFSETFROM:+0200
TZOFFSETTO:+0100
TZNAME:CET
DTSTART:19701025T030000
RRULE:FREQ=YEARLY;INTERVAL=1;BYDAY=-1SU;BYMONTH=10
END:STANDARD
END:VTIMEZONE
BEGIN:VEVENT
UID:296b3a33bf8d552ffc737f138978f300@gruene-ritterhude.de
URL;VALUE=URI:https://gruene-ritterhude.de/termine/gruene-im-gespraech-2/
LOCATION:Hotel Jägerstuben, Struckbergstraße, Ritterhude
SUMMARY:Grüne im Gespräch
DESCRIPTION;ALTREP="data:text/html,%0A%3Cp%3EOffener%20Gr%C3%BCnen-Treff%
 20in%20Ritterhude.%20Wir%20freuen%20uns%20%C3%BCber%20G%C3%A4ste%2C%20die
 %20sich%20mit%20uns%20austauschen%3C%2Fp%3E%0A":Offener Grünen-Treff in 
 Ritterhude. Wir freuen uns über Gäste\, die sich mit uns austauschen
CLASS:PUBLIC
DTSTART;TZID=Europe/Berlin:20240506T200000
DTEND;TZID=Europe/Berlin:20240506T220000
DTSTAMP:20260422T140605
END:VEVENT
END:VCALENDAR