BEGIN:VCALENDAR
VERSION:2.0
PRODID:gruene-ritterhude.de
METHOD:PUBLISH
BEGIN:VTIMEZONE
TZID:Europe/Berlin
X-LIC-LOCATION:Europe/Berlin
BEGIN:DAYLIGHT
TZOFFSETFROM:+0100
TZOFFSETTO:+0200
TZNAME:CEST
DTSTART:19700329T020000
RRULE:FREQ=YEARLY;INTERVAL=1;BYDAY=-1SU;BYMONTH=3
END:DAYLIGHT
BEGIN:STANDARD
TZOFFSETFROM:+0200
TZOFFSETTO:+0100
TZNAME:CET
DTSTART:19701025T030000
RRULE:FREQ=YEARLY;INTERVAL=1;BYDAY=-1SU;BYMONTH=10
END:STANDARD
END:VTIMEZONE
BEGIN:VEVENT
UID:429cd21ff3a50605abe6f951b73b9218@gruene-ritterhude.de
URL;VALUE=URI:https://gruene-ritterhude.de/termine/filmabend-im-hammeforu
 m/
LOCATION:Kino Hammeforum, Riesstraße 11, Ritterhude
SUMMARY:Filmabend im Hammeforum
DESCRIPTION;ALTREP="data:text/html,%0A%3Cp%3EWir%20zeigen%20den%20Film%20
 %22Nathalie%20-%20%C3%9Cberwindung%20der%20Grenzen%22%2C%20passend%20zum%
 20Thema%20Europa.%20Es%20geht%20um%20den%20Umgang%20mit%20Gefl%C3%BCchtet
 en%2C%20verpackt%20in%20eine%20Familienkom%C3%B6die.%3C%2Fp%3E%0A%0A%0A%0
 A%3Cp%3EDer%20Film%20ist%20eine%20Neuerscheinung%20und%20gerade%20erst%20
 in%20den%20Kinos%20angelaufen.%3C%2Fp%3E%0A%0A%0A%0A%3Cp%3EAb%2019%20Uhr%
 20ist%20Einlass.%20Es%20wird%20einen%20kurzen%20Impulsvortrag%20geben.%20
 Danach%20stehen%20unsere%20Ratsmitglieder%20und%20Vorst%C3%A4nde%20dann%2
 0bis%20gegen%2020%20Uhr%20f%C3%BCr%20Fragen%20zur%20Verf%C3%BCgung.%3C%2F
 p%3E%0A%0A%0A%0A%3Cp%3EF%C3%BCr%20kostenfreie%20Getr%C3%A4nke%20ist%20ges
 orgt.%20Informiert%20euch%20und%20genie%C3%9Ft%20einen%20wundersch%C3%B6n
 en%20Filmabend.%3C%2Fp%3E%0A%0A%0A%0A%3Cp%3EHier%20geht%20es%20zum%20Trai
 ler%20f%C3%BCr%20den%20Film%3A%20%3Ca%20href%3D%22https%3A%2F%2Fwww.movie
 pilot.de%2Fmovies%2Fnathalie-und-die-uberwinding-der-grenzen%22%3Ehttps%3
 A%2F%2Fwww.moviepilot.de%2Fmovies%2Fnathalie-und-die-uberwinding-der-gren
 zen%3C%2Fa%3E%3C%2Fp%3E%0A":Wir zeigen den Film "Nathalie - Überwindung 
 der Grenzen"\, passend zum Thema Europa. Es geht um den Umgang mit Geflü
 chteten\, verpackt in eine Familienkomödie.\n\nDer Film ist eine Neuersc
 heinung und gerade erst in den Kinos angelaufen.\n\nAb 19 Uhr ist Einlass
 . Es wird einen kurzen Impulsvortrag geben. Danach stehen unsere Ratsmitg
 lieder und Vorstände dann bis gegen 20 Uhr für Fragen zur Verfügung.\n
 \nFür kostenfreie Getränke ist gesorgt. Informiert euch und genießt ei
 nen wunderschönen Filmabend.\n\nHier geht es zum Trailer für den Film: 
 https://www.moviepilot.de/movies/nathalie-und-die-uberwinding-der-grenzen
CLASS:PUBLIC
DTSTART;TZID=Europe/Berlin:20240603T190000
DTEND;TZID=Europe/Berlin:20240603T220000
DTSTAMP:20260422T140340
END:VEVENT
END:VCALENDAR