BEGIN:VCALENDAR
VERSION:2.0
PRODID:gruene-ritterhude.de
METHOD:PUBLISH
BEGIN:VTIMEZONE
TZID:Europe/Berlin
X-LIC-LOCATION:Europe/Berlin
BEGIN:DAYLIGHT
TZOFFSETFROM:+0100
TZOFFSETTO:+0200
TZNAME:CEST
DTSTART:19700329T020000
RRULE:FREQ=YEARLY;INTERVAL=1;BYDAY=-1SU;BYMONTH=3
END:DAYLIGHT
BEGIN:STANDARD
TZOFFSETFROM:+0200
TZOFFSETTO:+0100
TZNAME:CET
DTSTART:19701025T030000
RRULE:FREQ=YEARLY;INTERVAL=1;BYDAY=-1SU;BYMONTH=10
END:STANDARD
END:VTIMEZONE
BEGIN:VEVENT
UID:cef9580182d9126475af32c2175300a1@gruene-ritterhude.de
URL;VALUE=URI:https://gruene-ritterhude.de/termine/b74neu-wahnsinn-in-bet
 on/
LOCATION:DGH Platjenwerbe, Schulstraße 21, Ritterhude-Platjenwerbe
SUMMARY:B74neu – Wahnsinn in Beton
DESCRIPTION;ALTREP="data:text/html,%0A%3Cp%3EDer%20Ortsverband%20Ritterhu
 de%20von%20B90%2FGR%C3%9CNE%20stellt%20die%20Planung%20der%20neuen%20B74-
 Trasse%20in%20den%20Mittelpunkt%20der%20Veranstaltung.%20Initiert%20wurde
 %20die%20Informationsveranstaltung%20von%20einer%20Arbeitsgruppe%20des%20
 Heimatvereins%20Platjenwerbe%2C%20die%20sich%20bereits%20beim%20Gewerbege
 biet%20Heidkamp-Nord%20engagiert%20hatte.%20Der%20Gruppe%20ist%20es%20ein
 %20anliegen%20die%20B%C3%BCrger%2Ainnen%20%C3%BCber%20den%20Planungsstand
 %20aufzukl%C3%A4ren%20und%20dar%C3%BCber%2C%20welches%20Monster%20hier%20
 jetzt%20geschaffen%20werden%20soll.%3C%2Fp%3E%0A%0A%0A%0A%3Cp%3EAls%20Ref
 erent%20wurde%20H.G.Kulp%20von%20der%20Biologischen%20Station%20Osterholz
 %20eingeladen.%20Er%20wird%20aus%20naturfachlicher%20Sicht%20in%20das%20T
 hema%20einf%C3%BChren%20und%20f%C3%BCr%20Diskussionen%20zur%20Verf%C3%BCg
 ung%20stehen.%3C%2Fp%3E%0A":Der Ortsverband Ritterhude von B90/GRÜNE ste
 llt die Planung der neuen B74-Trasse in den Mittelpunkt der Veranstaltung
 . Initiert wurde die Informationsveranstaltung von einer Arbeitsgruppe de
 s Heimatvereins Platjenwerbe\, die sich bereits beim Gewerbegebiet Heidka
 mp-Nord engagiert hatte. Der Gruppe ist es ein anliegen die Bürger*innen
  über den Planungsstand aufzuklären und darüber\, welches Monster hier
  jetzt geschaffen werden soll.\n\nAls Referent wurde H.G.Kulp von der Bio
 logischen Station Osterholz eingeladen. Er wird aus naturfachlicher Sicht
  in das Thema einführen und für Diskussionen zur Verfügung stehen.
CLASS:PUBLIC
DTSTART;TZID=Europe/Berlin:20240913T193000
DTEND;TZID=Europe/Berlin:20240913T210000
DTSTAMP:20260424T101341
END:VEVENT
END:VCALENDAR